BEGIN:VCALENDAR
VERSION:2.0
PRODID:-//Hourglass - ECPv5.1.4//NONSGML v1.0//EN
CALSCALE:GREGORIAN
METHOD:PUBLISH
X-WR-CALNAME:Hourglass
X-ORIGINAL-URL:https://thehourglassdistrict.com
X-WR-CALDESC:Events for Hourglass
BEGIN:VTIMEZONE
TZID:America/New_York
BEGIN:DAYLIGHT
TZOFFSETFROM:-0500
TZOFFSETTO:-0400
TZNAME:EDT
DTSTART:20190310T070000
END:DAYLIGHT
BEGIN:STANDARD
TZOFFSETFROM:-0400
TZOFFSETTO:-0500
TZNAME:EST
DTSTART:20191103T060000
END:STANDARD
END:VTIMEZONE
BEGIN:VEVENT
DTSTART;TZID=America/New_York:20191221T190000
DTEND;TZID=America/New_York:20191221T210000
DTSTAMP:20260425T022247
CREATED:20191208T031603Z
LAST-MODIFIED:20191208T031603Z
UID:3005-1576954800-1576962000@thehourglassdistrict.com
SUMMARY:Winter Solstice- A Night of Renewal
DESCRIPTION:  \nThe winter solstice is the longest day of the year – the longest day of darkness before the sun is reborn. It is a day of self- reflection\, regeneration\, and renewal. Join us this winter solstice as Frannie Ferrara guides you through an evening of mediation\, mindfulness\, and movement as we celebrate of the return of the light! \nThe evening will start with a sharing circle to create a deep sense of community and connection. Grounding\, guided meditation will gently lead you into a still space for quiet self-reflection. From this mindful place you’ll journal using a stream of consciousness technique to allow you to honor who you are while exploring who you are becoming. And we’ll end the evening with a beautiful gentle yoga practice – setting your intentions with the energy of movement and an honoring of the light. \n
URL:https://thehourglassdistrict.com/events/winter-solstice-a-night-of-renewal/
LOCATION:The Peaceful Peacock\, 2500 Curry Ford Rd\, Orlando\, FL\, 32806
END:VEVENT
END:VCALENDAR