BEGIN:VCALENDAR
VERSION:2.0
PRODID:-//Hourglass - ECPv5.1.4//NONSGML v1.0//EN
CALSCALE:GREGORIAN
METHOD:PUBLISH
X-WR-CALNAME:Hourglass
X-ORIGINAL-URL:https://thehourglassdistrict.com
X-WR-CALDESC:Events for Hourglass
BEGIN:VTIMEZONE
TZID:America/New_York
BEGIN:DAYLIGHT
TZOFFSETFROM:-0500
TZOFFSETTO:-0400
TZNAME:EDT
DTSTART:20190310T070000
END:DAYLIGHT
BEGIN:STANDARD
TZOFFSETFROM:-0400
TZOFFSETTO:-0500
TZNAME:EST
DTSTART:20191103T060000
END:STANDARD
END:VTIMEZONE
BEGIN:VEVENT
DTSTART;TZID=America/New_York:20191119T190000
DTEND;TZID=America/New_York:20191119T210000
DTSTAMP:20260424T231449
CREATED:20191107T152442Z
LAST-MODIFIED:20191107T152442Z
UID:2066-1574190000-1574197200@thehourglassdistrict.com
SUMMARY:Tasty trivia @ Hourglass Brewing
DESCRIPTION:Tasty Trivia is taking over Tuesday nights at Hourglass Brewing on Curry Ford! Join us every week for the fun – it all begins at 7pm! \n
URL:https://thehourglassdistrict.com/events/tasty-trivia-hourglass-brewing-2/
LOCATION:Hourglass Brewing\, 2500 Curry Ford RD Suite 4\, Orlando\, FL\, 32806\, United States
ATTACH;FMTTYPE=image/jpeg:https://thehourglassdistrict.com/wp-content/uploads/2019/11/71097290_1360470614109666_3218655574023471104_o.jpg
END:VEVENT
END:VCALENDAR