BEGIN:VCALENDAR
VERSION:2.0
PRODID:-//Hourglass - ECPv5.1.4//NONSGML v1.0//EN
CALSCALE:GREGORIAN
METHOD:PUBLISH
X-WR-CALNAME:Hourglass
X-ORIGINAL-URL:https://thehourglassdistrict.com
X-WR-CALDESC:Events for Hourglass
BEGIN:VTIMEZONE
TZID:America/New_York
BEGIN:DAYLIGHT
TZOFFSETFROM:-0500
TZOFFSETTO:-0400
TZNAME:EDT
DTSTART:20190310T070000
END:DAYLIGHT
BEGIN:STANDARD
TZOFFSETFROM:-0400
TZOFFSETTO:-0500
TZNAME:EST
DTSTART:20191103T060000
END:STANDARD
END:VTIMEZONE
BEGIN:VEVENT
DTSTART;TZID=America/New_York:20191109T150000
DTEND;TZID=America/New_York:20191109T210000
DTSTAMP:20260425T022602
CREATED:20191030T203956Z
LAST-MODIFIED:20191030T203956Z
UID:1812-1573311600-1573333200@thehourglassdistrict.com
SUMMARY:Needles and Namaste - Sound Healing with Acupuncture
DESCRIPTION:Join us for a night of pure serenity\, sound healing\, and Acupuncture. Two sessions available – 3pm & 7pm. \nDuring this special evening licensed acupuncturist\, Christina Prieto will combine the ancient practice of needling with sound healing performed by Ryan and Nina of Seed of Sound for an incredibly transformative evening. \nCost: $35pp\nNOVEMBER 9th\n3pm OR 7pm \nPlease stop. drop. and read the FAQ’s and notes before you buy! \nFAQ: \nCan I come if I don’t want acupuncture? \nThe participants can opt for auricular ear seeds instead of acupuncture. This form of reflexology does not puncture the skin\, rather small pellets are placed in certain acupuncture points in the ear for a calming effect. If no form of treatment is desired\, you may still join. \nWhat do I bring? \nYou will want to be still and comfortable for the entirety of your treatment. Bring any pillows\, blankets or props that will help you lay down with minimal movement. Limited yoga mats and props are available for use. \nHow can I prepare? \nMake sure to wear loose and comfortable clothing. You will need to have your arms and legs easily accessible. Please eat a light meal or snack 30 minutes before the event. Do not come on an empty stomach. \nHow many needles? Do they hurt? \n5-10 needles will be applied. The participant will have full control over the treatment. If less are desired\, this can be accommodated. Acupuncture needles are about the thickness of a dog’s whisker\, so they are painless when inserted\, although there is a sensation. After insertion\, the practitioner will bring the needle to the appropriate depth. You will then usually feel a very unique sensation that can vary from tingling\, to heaviness\, to warmth\, or nothing at all. Each person’s experience is different. Should you experience any discomfort\, inform the practitioner\, and they will adjust the needles accordingly. \nAre there any side effects? \nOne of the great advantages of acupuncture is that\, other than an occasional bruise\, there are no side effects. \nPregnancy? \nPlease inform the practitioner if you are or could be pregnant. Acupuncture is safe during pregnancy\, in fact\, it’s beneficial\, but there are certain points to be avoided. \nAre the needles sterile or are they reused?\nNeedles are individually wrapped and sterilized by the manufacturer. They are opened only when they are ready to be used\, and afterwards\, each needle is disposed of in a medical waste container. They are never reused. \nNOTES:\nTickets are non-refundable\, non-transferable\, non-resale-able. You must book under your own name. If you wish to purchase multiple tickets\, please email the names of the recipients to info@peacefulpeacockorlando and let us know a time to call for your card info. Please be on time. Please let your instructors know if you have any concerns ahead of time. \n
URL:https://thehourglassdistrict.com/events/needles-and-namaste-sound-healing-with-acupuncture/
LOCATION:The Peaceful Peacock\, 2500 Curry Ford Rd\, Orlando\, FL\, 32806
ATTACH;FMTTYPE=image/jpeg:https://thehourglassdistrict.com/wp-content/uploads/2019/10/71697537_10156757897412239_4709918848269156352_n.jpg
END:VEVENT
END:VCALENDAR