BEGIN:VCALENDAR
VERSION:2.0
PRODID:-//Hourglass - ECPv5.1.4//NONSGML v1.0//EN
CALSCALE:GREGORIAN
METHOD:PUBLISH
X-WR-CALNAME:Hourglass
X-ORIGINAL-URL:https://thehourglassdistrict.com
X-WR-CALDESC:Events for Hourglass
BEGIN:VTIMEZONE
TZID:America/New_York
BEGIN:DAYLIGHT
TZOFFSETFROM:-0500
TZOFFSETTO:-0400
TZNAME:EDT
DTSTART:20190310T070000
END:DAYLIGHT
BEGIN:STANDARD
TZOFFSETFROM:-0400
TZOFFSETTO:-0500
TZNAME:EST
DTSTART:20191103T060000
END:STANDARD
END:VTIMEZONE
BEGIN:VEVENT
DTSTART;TZID=America/New_York:20191221T200000
DTEND;TZID=America/New_York:20191221T230000
DTSTAMP:20260425T032520
CREATED:20191203T160350Z
LAST-MODIFIED:20191203T160350Z
UID:2876-1576958400-1576969200@thehourglassdistrict.com
SUMMARY:LIVE MUSIC: The Byrne Brothers @ Claddagh Cottage
DESCRIPTION:Returning to the Claddagh Cottage\, Traditional Irish Music and Dancing Family from Ireland! This is a family band with Luca on button accordion (age 15)\, Finn on banjo (age 13)\, Dempsey on bodhran & whistle (age 10) and backed by father Tommy on guitar\, fiddle and vocals (age unknown). http://www.thebyrnebrothers.com/ \n
URL:https://thehourglassdistrict.com/events/live-music-the-byrne-brothers-claddagh-cottage-2/
LOCATION:Claddagh Cottage Irish Pub\, 2421 Curry Ford Rd\, Orlando\, FL\, 32806\, United States
ATTACH;FMTTYPE=image/jpeg:https://thehourglassdistrict.com/wp-content/uploads/2018/09/42085352_2680300398662911_5204660365933150208_n.jpg
END:VEVENT
END:VCALENDAR