BEGIN:VCALENDAR
VERSION:2.0
PRODID:-//Hourglass - ECPv5.1.4//NONSGML v1.0//EN
CALSCALE:GREGORIAN
METHOD:PUBLISH
X-WR-CALNAME:Hourglass
X-ORIGINAL-URL:https://thehourglassdistrict.com
X-WR-CALDESC:Events for Hourglass
BEGIN:VTIMEZONE
TZID:America/New_York
BEGIN:DAYLIGHT
TZOFFSETFROM:-0500
TZOFFSETTO:-0400
TZNAME:EDT
DTSTART:20190310T070000
END:DAYLIGHT
BEGIN:STANDARD
TZOFFSETFROM:-0400
TZOFFSETTO:-0500
TZNAME:EST
DTSTART:20191103T060000
END:STANDARD
END:VTIMEZONE
BEGIN:VEVENT
DTSTART;TZID=America/New_York:20191116T120000
DTEND;TZID=America/New_York:20191116T140000
DTSTAMP:20260425T000906
CREATED:20191030T204124Z
LAST-MODIFIED:20191030T204307Z
UID:1814-1573905600-1573912800@thehourglassdistrict.com
SUMMARY:Karma for Kittens- Rescue Yoga Event
DESCRIPTION:Kitten Yoga Event- Good Karma for Kittens! \nFrom the great team that brought you “Poses for Pups” another great animal rescue yoga event. Join us\, along with Jenna Spurlock and Liberation Cat House\, to discover the true meaning of cat pose as we practice surrounded by ADOPTABLE kittens. \nOur adorable feline yogis will be allowed to ROAM FREELY and interact with you during this 60-Minute Hatha Yoga class\, suitable for all levels. \nAfter your class\, please feel free to spend time with the kittens\, take pictures\, relax\, socialize\, and get adoption information if you meet your furry soul-mate. \nREAD THIS. IT WILL HELP YOU GET A SPOT \nSpace is limited and interest is high\, so advance purchase is recommended. You must register each participant. Buying multiple tickets under your account will not guarantee space and causes us to have to reach out to you and decipher who is coming. Please send us an email or message if you do this. Tickets are $25\, non-refundable\, with a portion of the proceeds going directly back to the rescue. \n*Please note: only our carefully chosen kittens will be allowed at this event. All participants will be required to sign an event waiver. Please no outside treats. We have loaner mats available if you would like to use one. There is always the chance of a potty accident. The Peaceful Peacock is not responsible for any accident\, slobber\, or kibbled mats & personal belongings. Nature happens\, folks. No children under the age of 10 permitted. This class will be fun\, casual\, and occasionally require a pause for the paws. Departure time for all human and feline yogis will be 2pm. \n
URL:https://thehourglassdistrict.com/events/karma-for-kittens-rescue-yoga-event/
LOCATION:The Peaceful Peacock\, 2500 Curry Ford Rd\, Orlando\, FL\, 32806
ATTACH;FMTTYPE=image/jpeg:https://thehourglassdistrict.com/wp-content/uploads/2019/10/70198966_915056132212655_4236762199852318720_n.jpg
END:VEVENT
END:VCALENDAR