BEGIN:VCALENDAR
VERSION:2.0
PRODID:-//Hourglass - ECPv5.1.4//NONSGML v1.0//EN
CALSCALE:GREGORIAN
METHOD:PUBLISH
X-WR-CALNAME:Hourglass
X-ORIGINAL-URL:https://thehourglassdistrict.com
X-WR-CALDESC:Events for Hourglass
BEGIN:VTIMEZONE
TZID:America/New_York
BEGIN:DAYLIGHT
TZOFFSETFROM:-0500
TZOFFSETTO:-0400
TZNAME:EDT
DTSTART:20190310T070000
END:DAYLIGHT
BEGIN:STANDARD
TZOFFSETFROM:-0400
TZOFFSETTO:-0500
TZNAME:EST
DTSTART:20191103T060000
END:STANDARD
END:VTIMEZONE
BEGIN:VEVENT
DTSTART;TZID=America/New_York:20191220T180000
DTEND;TZID=America/New_York:20191220T200000
DTSTAMP:20260425T000906
CREATED:20191212T193718Z
LAST-MODIFIED:20191212T193718Z
UID:3124-1576864800-1576872000@thehourglassdistrict.com
SUMMARY:Gingerbread House Decorating Contest with Le Ky Patisserie
DESCRIPTION:OH SNAP! Adults and children of all ages\, bring your family and tap into your creative side to compete in the first ever annual gingerbread decorating contest with Le Ky Patisserie\, in the Hourglass Social House. First place winners\, chosen by Le Ky Patisserie’s very own Chef Uyen\, will recieve an Hourglass District Swag bag. \nPrice of ticket is per family. Includes materials\, delicious hot chocolate and holiday cookies. Space is limited\, reserve your spot TODAY! \n*Children must be accompanied by an adult* \n
URL:https://thehourglassdistrict.com/events/gingerbread-house-decorating-contest-with-le-ky-patisserie/
LOCATION:Hourglass Social House\, 2401 Curry Ford Rd\, Orlando\, FL\, 32806\, United States
ATTACH;FMTTYPE=image/png:https://thehourglassdistrict.com/wp-content/uploads/2019/12/Screen-Shot-2019-12-12-at-6.46.46-AM.png
END:VEVENT
END:VCALENDAR