BEGIN:VCALENDAR
VERSION:2.0
PRODID:-//Hourglass - ECPv5.1.4//NONSGML v1.0//EN
CALSCALE:GREGORIAN
METHOD:PUBLISH
X-WR-CALNAME:Hourglass
X-ORIGINAL-URL:https://thehourglassdistrict.com
X-WR-CALDESC:Events for Hourglass
BEGIN:VTIMEZONE
TZID:America/New_York
BEGIN:DAYLIGHT
TZOFFSETFROM:-0500
TZOFFSETTO:-0400
TZNAME:EDT
DTSTART:20200308T070000
END:DAYLIGHT
BEGIN:STANDARD
TZOFFSETFROM:-0400
TZOFFSETTO:-0500
TZNAME:EST
DTSTART:20201101T060000
END:STANDARD
END:VTIMEZONE
BEGIN:VEVENT
DTSTART;TZID=America/New_York:20200209T120000
DTEND;TZID=America/New_York:20200209T140000
DTSTAMP:20260423T203927
CREATED:20200123T171453Z
LAST-MODIFIED:20200123T171453Z
UID:4136-1581249600-1581256800@thehourglassdistrict.com
SUMMARY:Galentines- Yoga Leslie Knope Would Be Proud Of
DESCRIPTION: \nCome Kick-It with us\, brunch style. Join us for an early Galentine’s Day on February 9th\, with Lizzie\, your Leslie Knope for the day.  \nWe will start with an hour of heart and hip opening flow yoga. Followed by a waffle bar compliments of Talisman Cafe\, mimosa array\, and brunch hour to gab about all the great things we can do for self care that isn’t a lame bath bomb. Every gal/or pal because maybe a dude is your bestie\, goes home with a swag bag\, filled with fun Peacocky self care samples and swag. We will have a few local vendors sharing wares\, too. If you are interested in adding on a 10 minute chair massage or mini facial\, please email info@peacefulpeacockorlando.com  \n“We need to remember what’s important in life: friends\, waffles\, work. Or waffles\, friends\, work. Doesn’t matter\, but work is third.” (Or fourth\, because really yoga should be ahead of work). \n2/9/2020\n12pm-2pm\n$28 per person \nFINE PRINT Tickets are non-refundable and non-transferable. We are holding a space and purchasing materials for you. Buy purchasing you agree to our terms and conditions and acknowledge that you are of legal drinking age. If you are buying tickets for others\, please make sure to do so under their name or email us at info@peacefulpeacockorlando.com \n
URL:https://thehourglassdistrict.com/events/galentines-yoga-leslie-knope-would-be-proud-of/
LOCATION:The Peaceful Peacock\, 2500 Curry Ford Rd\, Orlando\, FL\, 32806
END:VEVENT
END:VCALENDAR