BEGIN:VCALENDAR
VERSION:2.0
PRODID:-//Hourglass - ECPv5.1.4//NONSGML v1.0//EN
CALSCALE:GREGORIAN
METHOD:PUBLISH
X-WR-CALNAME:Hourglass
X-ORIGINAL-URL:https://thehourglassdistrict.com
X-WR-CALDESC:Events for Hourglass
BEGIN:VTIMEZONE
TZID:America/New_York
BEGIN:DAYLIGHT
TZOFFSETFROM:-0500
TZOFFSETTO:-0400
TZNAME:EDT
DTSTART:20190310T070000
END:DAYLIGHT
BEGIN:STANDARD
TZOFFSETFROM:-0400
TZOFFSETTO:-0500
TZNAME:EST
DTSTART:20191103T060000
END:STANDARD
END:VTIMEZONE
BEGIN:VEVENT
DTSTART;TZID=America/New_York:20191213T190000
DTEND;TZID=America/New_York:20191213T210000
DTSTAMP:20260424T211820
CREATED:20191208T030553Z
LAST-MODIFIED:20191208T030920Z
UID:2991-1576263600-1576270800@thehourglassdistrict.com
SUMMARY:December Book Club "The Instruction" by Ainslie MacLeod
DESCRIPTION: \n  \nIf you LOVE reading\, we want you! The Peaceful Peacock Book Club is a group for those interested in reading (or re-reading!) a broad range of books relevant to our lives\, our yoga practice and potentially exploring themes related to yoga. The intention of our book club is to create a stronger sense of community at The Peaceful Peacock studio and to broaden our familiarity with our flock & understanding of yoga beyond the classes. Think of this book club as a yoga-book-mixer. \nWe won’t be doing yoga but we will be sitting around on our mats\, enjoying the discussion\, connecting themes\, and connecting ourselves with great company. Snacks and beverages provided! \nCost per session is $15 and you can purchase the book yourself in whatever format you prefer. \nWe’ll be discussing “The Instruction: Living the Life your Soul Intended” by Ainslie MacLeod. \nOur Peaceful Peacock Book Club is lead by Lizzie Fredrick\, a self-proclaimed snack queen\, avid reader\, bibliophile\, Hourglass District Resident\, dog lover and Peacock teacher. For book-club questions or suggestions ask to be added to the FB group or please email lizzie@peacefulpeacockorlando.com \n
URL:https://thehourglassdistrict.com/events/december-book-club-the-instruction-by-ainslie-macleod/
LOCATION:The Peaceful Peacock\, 2500 Curry Ford Rd\, Orlando\, FL\, 32806
END:VEVENT
END:VCALENDAR